BEGIN:VCALENDAR
VERSION:2.0
PRODID:-//esports//NONSGML v1.0//EN
NAME:FC Baník Ostrava - Chance Liga
DESCRIPTION:FC Baník Ostrava - Chance Liga
X-WR-CALNAME:FC Baník Ostrava - Chance Liga
BEGIN:VEVENT
DTSTART;TZID=Europe/Prague:20250719T170000
DTEND;TZID=Europe/Prague:20250719T190000
UID:Zapasy_2025-26.ics.zapas.1189
SUMMARY:Bohemians Praha 1905 - FC Baník Ostrava
DESCRIPTION:Chance Liga - 1.kolo
END:VEVENT
BEGIN:VEVENT
DTSTART;TZID=Europe/Prague:20250803T173000
DTEND;TZID=Europe/Prague:20250803T193000
UID:Zapasy_2025-26.ics.zapas.1191
SUMMARY:FK Dukla Praha - FC Baník Ostrava
DESCRIPTION:Chance Liga - 3.kolo
END:VEVENT
BEGIN:VEVENT
DTSTART;TZID=Europe/Prague:20250810T173000
DTEND;TZID=Europe/Prague:20250810T193000
UID:Zapasy_2025-26.ics.zapas.1192
SUMMARY:FC Baník Ostrava - MFK Karviná
DESCRIPTION:Chance Liga - 4.kolo
END:VEVENT
BEGIN:VEVENT
DTSTART;TZID=Europe/Prague:20250824T173000
DTEND;TZID=Europe/Prague:20250824T193000
UID:Zapasy_2025-26.ics.zapas.1194
SUMMARY:FC Baník Ostrava - 1.FC Slovácko
DESCRIPTION:Chance Liga - 6.kolo
END:VEVENT
BEGIN:VEVENT
DTSTART;TZID=Europe/Prague:20250831T173000
DTEND;TZID=Europe/Prague:20250831T193000
UID:Zapasy_2025-26.ics.zapas.1195
SUMMARY:SK Sigma Olomouc - FC Baník Ostrava
DESCRIPTION:Chance Liga - 7.kolo
END:VEVENT
BEGIN:VEVENT
DTSTART;TZID=Europe/Prague:20250913T150000
DTEND;TZID=Europe/Prague:20250913T170000
UID:Zapasy_2025-26.ics.zapas.1196
SUMMARY:FC Baník Ostrava - FC Slovan Liberec
DESCRIPTION:Chance Liga - 8.kolo
END:VEVENT
BEGIN:VEVENT
DTSTART;TZID=Europe/Prague:20250917T170000
DTEND;TZID=Europe/Prague:20250917T190000
UID:Zapasy_2025-26.ics.zapas.1190
SUMMARY:FC Baník Ostrava - FK Teplice
DESCRIPTION:Chance Liga - 2.kolo
END:VEVENT
BEGIN:VEVENT
DTSTART;TZID=Europe/Prague:20250921T183000
DTEND;TZID=Europe/Prague:20250921T203000
UID:Zapasy_2025-26.ics.zapas.1197
SUMMARY:FK Mladá Boleslav - FC Baník Ostrava
DESCRIPTION:Chance Liga - 9.kolo
END:VEVENT
BEGIN:VEVENT
DTSTART;TZID=Europe/Prague:20250927T150000
DTEND;TZID=Europe/Prague:20250927T170000
UID:Zapasy_2025-26.ics.zapas.1198
SUMMARY:FC Baník Ostrava - AC Sparta Praha
DESCRIPTION:Chance Liga - 10.kolo
END:VEVENT
BEGIN:VEVENT
DTSTART;TZID=Europe/Prague:20251001T180000
DTEND;TZID=Europe/Prague:20251001T200000
UID:Zapasy_2025-26.ics.zapas.1193
SUMMARY:FK Pardubice - FC Baník Ostrava
DESCRIPTION:Chance Liga - 5.kolo
END:VEVENT
BEGIN:VEVENT
DTSTART;TZID=Europe/Prague:20251005T130000
DTEND;TZID=Europe/Prague:20251005T150000
UID:Zapasy_2025-26.ics.zapas.1199
SUMMARY:FC Zlín - FC Baník Ostrava
DESCRIPTION:Chance Liga - 11.kolo
END:VEVENT
BEGIN:VEVENT
DTSTART;TZID=Europe/Prague:20251019T130000
DTEND;TZID=Europe/Prague:20251019T150000
UID:Zapasy_2025-26.ics.zapas.1200
SUMMARY:FC Baník Ostrava - FC Hradec Králové
DESCRIPTION:Chance Liga - 12.kolo
END:VEVENT
BEGIN:VEVENT
DTSTART;TZID=Europe/Prague:20251026T183000
DTEND;TZID=Europe/Prague:20251026T203000
UID:Zapasy_2025-26.ics.zapas.1201
SUMMARY:FC Viktoria Plzeň - FC Baník Ostrava
DESCRIPTION:Chance Liga - 13.kolo
END:VEVENT
BEGIN:VEVENT
DTSTART;TZID=Europe/Prague:20251101T180000
DTEND;TZID=Europe/Prague:20251101T200000
UID:Zapasy_2025-26.ics.zapas.1202
SUMMARY:SK Slavia Praha - FC Baník Ostrava
DESCRIPTION:Chance Liga - 14.kolo
END:VEVENT
BEGIN:VEVENT
DTSTART;TZID=Europe/Prague:20251108T180000
DTEND;TZID=Europe/Prague:20251108T200000
UID:Zapasy_2025-26.ics.zapas.1203
SUMMARY:FC Baník Ostrava - FK Jablonec
DESCRIPTION:Chance Liga - 15.kolo
END:VEVENT
BEGIN:VEVENT
DTSTART;TZID=Europe/Prague:20251122T150000
DTEND;TZID=Europe/Prague:20251122T170000
UID:Zapasy_2025-26.ics.zapas.1204
SUMMARY:FK Teplice - FC Baník Ostrava
DESCRIPTION:Chance Liga - 16.kolo
END:VEVENT
BEGIN:VEVENT
DTSTART;TZID=Europe/Prague:20251129T150000
DTEND;TZID=Europe/Prague:20251129T170000
UID:Zapasy_2025-26.ics.zapas.1205
SUMMARY:FC Baník Ostrava - FK Dukla Praha
DESCRIPTION:Chance Liga - 17.kolo
END:VEVENT
BEGIN:VEVENT
DTSTART;TZID=Europe/Prague:20251207T153000
DTEND;TZID=Europe/Prague:20251207T173000
UID:Zapasy_2025-26.ics.zapas.1206
SUMMARY:MFK Karviná - FC Baník Ostrava
DESCRIPTION:Chance Liga - 18.kolo
END:VEVENT
BEGIN:VEVENT
DTSTART;TZID=Europe/Prague:20251213T150000
DTEND;TZID=Europe/Prague:20251213T170000
UID:Zapasy_2025-26.ics.zapas.1207
SUMMARY:FC Baník Ostrava - FK Pardubice
DESCRIPTION:Chance Liga - 19.kolo
END:VEVENT
BEGIN:VEVENT
DTSTART;TZID=Europe/Prague:20260201T130000
DTEND;TZID=Europe/Prague:20260201T150000
UID:Zapasy_2025-26.ics.zapas.1208
SUMMARY:1.FC Slovácko - FC Baník Ostrava
DESCRIPTION:Chance Liga - 20.kolo
END:VEVENT
BEGIN:VEVENT
DTSTART;TZID=Europe/Prague:20260207T150000
DTEND;TZID=Europe/Prague:20260207T170000
UID:Zapasy_2025-26.ics.zapas.1209
SUMMARY:FC Baník Ostrava - SK Sigma Olomouc
DESCRIPTION:Chance Liga - 21.kolo
END:VEVENT
BEGIN:VEVENT
DTSTART;TZID=Europe/Prague:20260215T153000
DTEND;TZID=Europe/Prague:20260215T173000
UID:Zapasy_2025-26.ics.zapas.1210
SUMMARY:FC Slovan Liberec - FC Baník Ostrava
DESCRIPTION:Chance Liga - 22.kolo
END:VEVENT
BEGIN:VEVENT
DTSTART;TZID=Europe/Prague:20260222T153000
DTEND;TZID=Europe/Prague:20260222T173000
UID:Zapasy_2025-26.ics.zapas.1211
SUMMARY:FC Baník Ostrava - FK Mladá Boleslav
DESCRIPTION:Chance Liga - 23.kolo
END:VEVENT
BEGIN:VEVENT
DTSTART;TZID=Europe/Prague:20260228T180000
DTEND;TZID=Europe/Prague:20260228T200000
UID:Zapasy_2025-26.ics.zapas.1212
SUMMARY:AC Sparta Praha - FC Baník Ostrava
DESCRIPTION:Chance Liga - 24.kolo
END:VEVENT
BEGIN:VEVENT
DTSTART;TZID=Europe/Prague:20260308T130000
DTEND;TZID=Europe/Prague:20260308T150000
UID:Zapasy_2025-26.ics.zapas.1213
SUMMARY:FC Baník Ostrava - FC Zlín
DESCRIPTION:Chance Liga - 25.kolo
END:VEVENT
BEGIN:VEVENT
DTSTART;TZID=Europe/Prague:20260314T150000
DTEND;TZID=Europe/Prague:20260314T170000
UID:Zapasy_2025-26.ics.zapas.1214
SUMMARY:FC Hradec Králové - FC Baník Ostrava
DESCRIPTION:Chance Liga - 26.kolo
END:VEVENT
BEGIN:VEVENT
DTSTART;TZID=Europe/Prague:20260405T153000
DTEND;TZID=Europe/Prague:20260405T173000
UID:Zapasy_2025-26.ics.zapas.1216
SUMMARY:FC Baník Ostrava - SK Slavia Praha
DESCRIPTION:Chance Liga - 28.kolo
END:VEVENT
BEGIN:VEVENT
DTSTART;TZID=Europe/Prague:20260411T150000
DTEND;TZID=Europe/Prague:20260411T170000
UID:Zapasy_2025-26.ics.zapas.1217
SUMMARY:FK Jablonec - FC Baník Ostrava
DESCRIPTION:Chance Liga - 29.kolo
END:VEVENT
BEGIN:VEVENT
DTSTART;TZID=Europe/Prague:20260418T150000
DTEND;TZID=Europe/Prague:20260418T170000
UID:Zapasy_2025-26.ics.zapas.1218
SUMMARY:FC Baník Ostrava - Bohemians Praha 1905
DESCRIPTION:Chance Liga - 30.kolo
END:VEVENT
BEGIN:VEVENT
DTSTART;TZID=Europe/Prague:20260425T160000
DTEND;TZID=Europe/Prague:20260425T180000
UID:Zapasy_2025-26.ics.zapas.1215
SUMMARY:FC Baník Ostrava - FC Viktoria Plzeň
DESCRIPTION:Chance Liga - 27.kolo
END:VEVENT
END:VCALENDAR